BEGIN:VCALENDAR
VERSION:2.0
CALSCALE:GREGORIAN
PRODID:-//Diputació de Barcelona//DibaCMS//EN
BEGIN:VEVENT
UID:8419
DTSTAMP:20260422T024613
DTSTART:20190618T000000
DTEND:20200617T000000
SUMMARY:Els Premis Goalkeeper guardonen els millors porters d’handbol 
LOCATION:
METHOD:PUBLISH
X-WR-CALNAME:sesrovires@diba.cat
X-WR-TIMEZONE:Europe/Madrid
DESCRIPTION:Els Premis Goalkeeper posa en valor la tasca que desenvolupen els porters d’handbol.  El passat 15 de juny, més de 180 persones es van reunir al Casino en la gala de lliurament dels premis als millors guardametes dels clubs participants.  Marta Pastrana (CH Sant Cugat)  i Albert Caballero (CH Sant Esteve) van ser triats com els millors porters de la temporada 2018-2019.

URI:https://www.sesrovires.cat/actualitat/noticies/els-premis-goalkeeper-guardonen-els-millors-porters-dhandbol-.html
CLASS:PUBLIC
END:VEVENT
END:VCALENDAR
