BEGIN:VCALENDAR
VERSION:2.0
CALSCALE:GREGORIAN
PRODID:-//Diputació de Barcelona//DibaCMS//EN
BEGIN:VEVENT
UID:8420
DTSTAMP:20260422T010007
DTSTART:20190618T000000
DTEND:20200617T000000
SUMMARY:Revetlles per a la Nit de Sant Joan
LOCATION:
METHOD:PUBLISH
X-WR-CALNAME:sesrovires@diba.cat
X-WR-TIMEZONE:Europe/Madrid
DESCRIPTION:Un total de tres revetlles tindran lloc la nit del 23 al 24 de juny.  El GIRES portarà de nou la flama del Canigó a Sant Esteve i els barris de Ca n’Amat i Vallserrat també celebraran les revetlles la Nit de Sant Joan.

URI:https://www.sesrovires.cat/actualitat/noticies/revetlles-per-a-la-nit-de-sant-joan.html
CLASS:PUBLIC
END:VEVENT
END:VCALENDAR
