BEGIN:VCALENDAR
VERSION:2.0
CALSCALE:GREGORIAN
PRODID:-//Diputació de Barcelona//DibaCMS//EN
BEGIN:VEVENT
UID:8421
DTSTAMP:20260421T232700
DTSTART:20190618T130000
DTEND:20200617T000000
SUMMARY:Clara Calderó, una de les estudiants més brillants de l’Estat
LOCATION:
METHOD:PUBLISH
X-WR-CALNAME:sesrovires@diba.cat
X-WR-TIMEZONE:Europe/Madrid
DESCRIPTION:La sesrovirenca Clara Calderó és una dels 120 estudiants de l’Estat que han aconseguit una beca per cursar un màster en una de les universitats més prestigioses del món. Ho està fent a la Universitat de Londres, a l’Escola d’Estudis Orientals i Africans, estudiant un màster en Violència, Conflicte i Desenvolupament.

URI:https://www.sesrovires.cat/actualitat/noticies/clara-caldero-una-de-les-estudiants-mes-brillants-de-lestat.html
CLASS:PUBLIC
END:VEVENT
END:VCALENDAR
