BEGIN:VCALENDAR
VERSION:2.0
CALSCALE:GREGORIAN
PRODID:-//Diputació de Barcelona//DibaCMS//EN
BEGIN:VEVENT
UID:8428
DTSTAMP:20260422T024426
DTSTART:20190625T000000
DTEND:20200618T000000
SUMMARY:Avui comença l’Estevestiu amb la participació de 500 infants i joves
LOCATION:
METHOD:PUBLISH
X-WR-CALNAME:sesrovires@diba.cat
X-WR-TIMEZONE:Europe/Madrid
DESCRIPTION:Avui, 25 de juny, ha començat l’Estevestiu, el programa d’activitats esportives i de lleure per a infants i joves. Enguany al voltant de 500 nois i noies participaran en alguna de les 13 activitats que s’organitzen.

URI:https://www.sesrovires.cat/actualitat/noticies/avui-comenca-lestevestiu-amb-la-participacio-de-500-infants-i-joves.html
CLASS:PUBLIC
END:VEVENT
END:VCALENDAR
