BEGIN:VCALENDAR
VERSION:2.0
CALSCALE:GREGORIAN
PRODID:-//Diputació de Barcelona//DibaCMS//EN
BEGIN:VEVENT
UID:8433
DTSTAMP:20260422T060615
DTSTART:20190621T140000
DTEND:20200620T000000
SUMMARY:Dues estudiants sesrovirenques reconegudes en la 7a edició dels Premis Edurecerca
LOCATION:
METHOD:PUBLISH
X-WR-CALNAME:sesrovires@diba.cat
X-WR-TIMEZONE:Europe/Madrid
DESCRIPTION:Els treballs de recerca de les estudiants sesrovirenques Aina Caviedes i Marina Puche han estat  reconeguts en els Premis Edurecerca promoguts pels Serveis Territorials al Baix Llobregat del Departament d’Educació. Aquests guardons volen ser una mostra i reconeixement a la tasca de recerca que es porta a terme als centres educatius de secundària de tot el territori.

URI:https://www.sesrovires.cat/actualitat/noticies/dues-estudiants-sesrovirenques-reconegudes-en-la-7a-edicio-dels-premis-edurecerca.html
CLASS:PUBLIC
END:VEVENT
END:VCALENDAR
