BEGIN:VCALENDAR
VERSION:2.0
CALSCALE:GREGORIAN
PRODID:-//Diputació de Barcelona//DibaCMS//EN
BEGIN:VEVENT
UID:8449
DTSTAMP:20260422T004901
DTSTART:20190626T120000
DTEND:20200625T000000
SUMMARY:La cursa solidària de Corre en Gran dona 8.100 euros a la Vall d’Hebron per a la recerca sobre l’ELA
LOCATION:
METHOD:PUBLISH
X-WR-CALNAME:sesrovires@diba.cat
X-WR-TIMEZONE:Europe/Madrid
DESCRIPTION:La cursa solidaria organitzada per Corre en Gran al mes de març ha aconseguit 8.100 euros. EL passat 20 juny, l’entitat va donar aquesta quantitat a l’Hospital Vall d’Hebron per contribuir a la investigació de l’esclerosi lateral amiotròfica (ELA), una malaltia neurodegenerativa que provoca la paràlisi dels músculs. La donació es va fer coincidint amb la celebració de la IV Jornada Commemorativa del Dia Mundial de l’ELA. 

URI:https://www.sesrovires.cat/actualitat/noticies/la-cursa-solidaria-de-corre-en-gran-dona-8100-euros-a-la-vall-dhebron-per-a-la-recerca-sobre-lela.html
CLASS:PUBLIC
END:VEVENT
END:VCALENDAR
