BEGIN:VCALENDAR
VERSION:2.0
CALSCALE:GREGORIAN
PRODID:-//Diputació de Barcelona//DibaCMS//EN
BEGIN:VEVENT
UID:8450
DTSTAMP:20260421T232733
DTSTART:20190626T133000
DTEND:20200625T000000
SUMMARY:Premi de 300€ al millor carrer engalanat de Festa Major
LOCATION:
METHOD:PUBLISH
X-WR-CALNAME:sesrovires@diba.cat
X-WR-TIMEZONE:Europe/Madrid
DESCRIPTION:Un premi de 300€, a més d’una xocolatada i animació infantil, és el premi que s’endurà el carrer guanyador del Concurs de carrers engalanats de la Festa Major 2019. Els carrers participants hauran de romandre engalanats del 25 al 28 de juliol.

URI:https://www.sesrovires.cat/actualitat/noticies/premi-de-300eur-al-millor-carrer-engalanat-de-festa-major.html
CLASS:PUBLIC
END:VEVENT
END:VCALENDAR
