BEGIN:VCALENDAR
VERSION:2.0
CALSCALE:GREGORIAN
PRODID:-//Diputació de Barcelona//DibaCMS//EN
BEGIN:VEVENT
UID:8457
DTSTAMP:20260422T010522
DTSTART:20190701T080000
DTEND:20200626T000000
SUMMARY:La festa del barri de Vallserrat, del 5 al 7 de juliol
LOCATION:
METHOD:PUBLISH
X-WR-CALNAME:sesrovires@diba.cat
X-WR-TIMEZONE:Europe/Madrid
DESCRIPTION:El proper 5 de juliol, el sopar de germanor marcarà l’inici de les festes del barri de Vallserrat. L’Associació de Veïns ha confeccionat un programa que combina activitats per a tots els públics. Tots els actes se celebraran al Casal Social del barri.

URI:https://www.sesrovires.cat/actualitat/noticies/la-festa-del-barri-de-vallserrat-del-5-al-7-de-juliol.html
CLASS:PUBLIC
END:VEVENT
END:VCALENDAR
