BEGIN:VCALENDAR
VERSION:2.0
CALSCALE:GREGORIAN
PRODID:-//Diputació de Barcelona//DibaCMS//EN
BEGIN:VEVENT
UID:8458
DTSTAMP:20260422T042845
DTSTART:20190627T120000
DTEND:20200626T000000
SUMMARY:Pau Garriga projecta a Sant Esteve el seu documental ‘Dub it yourself’
LOCATION:
METHOD:PUBLISH
X-WR-CALNAME:sesrovires@diba.cat
X-WR-TIMEZONE:Europe/Madrid
DESCRIPTION:Dub It Yourself dirigit pel sesrovirenc Pau Garriga es podrà veure per primera vegada a Sant Esteve el dissabte 29 de juny. El documental explica a través d'un programa de ràdio els moments més representatius d'aquests 25 anys del Reggae i la cultura Sound System a Barcelona.

URI:https://www.sesrovires.cat/actualitat/noticies/pau-garriga-projecta-a-sant-esteve-el-seu-documental-dub-it-yourself.html
CLASS:PUBLIC
END:VEVENT
END:VCALENDAR
