BEGIN:VCALENDAR
VERSION:2.0
CALSCALE:GREGORIAN
PRODID:-//Diputació de Barcelona//DibaCMS//EN
BEGIN:VEVENT
UID:8481
DTSTAMP:20260422T025631
DTSTART:20190628T140000
DTEND:20200627T000000
SUMMARY:Nou premi a un treball de recerca de l’Institut Montserrat Colomer 
LOCATION:
METHOD:PUBLISH
X-WR-CALNAME:sesrovires@diba.cat
X-WR-TIMEZONE:Europe/Madrid
DESCRIPTION:L’alumna de 2n de Batxillerat de l’INS Montserrat Colomer, Rebecca Kordikowski Boix, ha estat guardonada amb el 1r premi Argó de l’àmbit de Ciències que atorga la Universitat Autònoma de Barcelona a Treballs de Recerca de Batxillerat pel seu treball 'El vi, una substància viva'.

URI:https://www.sesrovires.cat/actualitat/noticies/nou-premi-a-un-treball-de-recerca-de-linstitut-montserrat-colomer-.html
CLASS:PUBLIC
END:VEVENT
END:VCALENDAR
