BEGIN:VCALENDAR
VERSION:2.0
CALSCALE:GREGORIAN
PRODID:-//Diputació de Barcelona//DibaCMS//EN
BEGIN:VEVENT
UID:8482
DTSTAMP:20260421T230929
DTSTART:20190701T090000
DTEND:20200627T000000
SUMMARY:Canvi en la ubicació de contenidors a Vinyes del Turó
LOCATION:
METHOD:PUBLISH
X-WR-CALNAME:sesrovires@diba.cat
X-WR-TIMEZONE:Europe/Madrid
DESCRIPTION:L’Ajuntament ha informat als veïns i veïnes de Vinyes del Turó de la nova ubicació de contenidors a la urbanització. Les dificultats d’accés del camió de recollida en alguns carrers, que obligava a maniobrar marxa enrere, han determinat aquest canvi que millora la seguretat i que no suposa la supressió de cap dels contenidors existents.

URI:https://www.sesrovires.cat/actualitat/noticies/canvi-en-la-ubicacio-de-contenidors-a-vinyes-del-turo.html
CLASS:PUBLIC
END:VEVENT
END:VCALENDAR
