BEGIN:VCALENDAR
VERSION:2.0
CALSCALE:GREGORIAN
PRODID:-//Diputació de Barcelona//DibaCMS//EN
BEGIN:VEVENT
UID:8483
DTSTAMP:20260422T011403
DTSTART:20190701T000000
DTEND:20200630T000000
SUMMARY:Més de 50 equips ja s’han inscrit al Torneig de Vòlei Sorra
LOCATION:
METHOD:PUBLISH
X-WR-CALNAME:sesrovires@diba.cat
X-WR-TIMEZONE:Europe/Madrid
DESCRIPTION:El Club Vòlei Sant Esteve organitza una nova edició del Torneig de Vòlei Sorra. En aquesta ocasió, els partits es disputaran del 5 al 7 de juliol, a les pistes annexes al Camp de Futbol Municipal.  Una cinquantena d’equips ja s’han apuntat en aquest torneig on participen tant jugadors de Sant Esteve com d’arreu de Catalunya. Les inscripcions continuen obertes.

URI:https://www.sesrovires.cat/actualitat/noticies/mes-de-50-equips-ja-shan-inscrit-al-torneig-de-volei-sorra.html
CLASS:PUBLIC
END:VEVENT
END:VCALENDAR
