BEGIN:VCALENDAR
VERSION:2.0
CALSCALE:GREGORIAN
PRODID:-//Diputació de Barcelona//DibaCMS//EN
BEGIN:VEVENT
UID:8484
DTSTAMP:20260421T230038
DTSTART:20190705T140000
DTEND:20200630T000000
SUMMARY:Àmplia oferta de cursos i tallers 
LOCATION:
METHOD:PUBLISH
X-WR-CALNAME:sesrovires@diba.cat
X-WR-TIMEZONE:Europe/Madrid
DESCRIPTION:El proper curs 2019-2020 es realitzarà a Sant Esteve Sesrovires una àmplia varietat de cursos i tallers. L’oferta inclou, entre altres temes, cultura, cinema, teatre, flamenc, literatura, cuina, dibuix, pintura i música. 

URI:https://www.sesrovires.cat/actualitat/noticies/amplia-oferta-de-cursos-i-tallers-.html
CLASS:PUBLIC
END:VEVENT
END:VCALENDAR
