BEGIN:VCALENDAR
VERSION:2.0
CALSCALE:GREGORIAN
PRODID:-//Diputació de Barcelona//DibaCMS//EN
BEGIN:VEVENT
UID:8485
DTSTAMP:20260421T231904
DTSTART:20190701T150000
DTEND:20200630T000000
SUMMARY:Intercanvi artístic amb Champniers
LOCATION:
METHOD:PUBLISH
X-WR-CALNAME:sesrovires@diba.cat
X-WR-TIMEZONE:Europe/Madrid
DESCRIPTION:En el marc del programa d’activitats d’agermanament amb Champniers, un grup de fotògrafs i pìntors sesrovirencs van visitar aquesta localitat francesa coincidint amb la celebració de la Festa de la Música.

URI:https://www.sesrovires.cat/temes/participacio/portal-de-participacio/intercanvi-artistic-amb-champniers.html
CLASS:PUBLIC
END:VEVENT
END:VCALENDAR
