BEGIN:VCALENDAR
VERSION:2.0
CALSCALE:GREGORIAN
PRODID:-//Diputació de Barcelona//DibaCMS//EN
BEGIN:VEVENT
UID:8493
DTSTAMP:20260421T230625
DTSTART:20190704T090000
DTEND:20200701T000000
SUMMARY:Comença la construcció de la pantalla de pilons al carrer Mercè Rodoreda
LOCATION:
METHOD:PUBLISH
X-WR-CALNAME:sesrovires@diba.cat
X-WR-TIMEZONE:Europe/Madrid
DESCRIPTION:Dimecres a la tarda va arribar la màquina que ha de construir la pantalla de pilons al carrer Mercè Rodoreda. Es tracta d’una màquina de grans dimensions per la qual cosa no es podrà circular ni estacionar, en el tram comprès entre les números 37 al 50, a partir de dijous 4 de juliol i per un període d’uns tres mesos.

URI:https://www.sesrovires.cat/actualitat/noticies/comenca-la-construccio-de-la-pantalla-de-pilons-al-carrer-merce-rodoreda.html
CLASS:PUBLIC
END:VEVENT
END:VCALENDAR
