BEGIN:VCALENDAR
VERSION:2.0
CALSCALE:GREGORIAN
PRODID:-//Diputació de Barcelona//DibaCMS//EN
BEGIN:VEVENT
UID:8497
DTSTAMP:20260422T054308
DTSTART:20190708T080000
DTEND:20200702T000000
SUMMARY:La Festa de Ca n’Amat, del  12 al 14 de juliol
LOCATION:
METHOD:PUBLISH
X-WR-CALNAME:sesrovires@diba.cat
X-WR-TIMEZONE:Europe/Madrid
DESCRIPTION:L’Associació de Veïns Ca n’Amat 2001 ha programat activitats per a petits i gran amb motiu de les festes del barri, que tindran lloc del 12 al 14 de juliol.  El sopar de germanor i les actuacions musicals són alguns dels ingredients dels actes programats.

URI:https://www.sesrovires.cat/actualitat/noticies/la-festa-de-ca-namat-del-12-al-14-de-juliol.html
CLASS:PUBLIC
END:VEVENT
END:VCALENDAR
