BEGIN:VCALENDAR
VERSION:2.0
CALSCALE:GREGORIAN
PRODID:-//Diputació de Barcelona//DibaCMS//EN
BEGIN:VEVENT
UID:8498
DTSTAMP:20260421T213301
DTSTART:20190703T130000
DTEND:20200702T000000
SUMMARY:Les obres de construcció del nou CAP començaran a l'agost
LOCATION:
METHOD:PUBLISH
X-WR-CALNAME:sesrovires@diba.cat
X-WR-TIMEZONE:Europe/Madrid
DESCRIPTION:El CatSalut ha informat que el 19 d'agost està prevista la signatura de l’acta de replanteig que marca l’inici de les obres de construcció del nou Centre d’Assistència Primària de Sant Esteve. L’equipament sanitari s’aixecarà en el terreny ubicat al carrer Josep Tarradellas i cedit per l’Ajuntament l’any 2008. El cost del projecte és d’uns 2,6M€.

URI:https://www.sesrovires.cat/actualitat/noticies/les-obres-de-construccio-del-nou-cap-comencaran-a-lagost.html
CLASS:PUBLIC
END:VEVENT
END:VCALENDAR
