BEGIN:VCALENDAR
VERSION:2.0
CALSCALE:GREGORIAN
PRODID:-//Diputació de Barcelona//DibaCMS//EN
BEGIN:VEVENT
UID:8501
DTSTAMP:20260421T213057
DTSTART:20190703T140000
DTEND:20200702T000000
SUMMARY:Nou pla d'ocupació per cobrir lloc de monitor/a de fitness
LOCATION:
METHOD:PUBLISH
X-WR-CALNAME:sesrovires@diba.cat
X-WR-TIMEZONE:Europe/Madrid
DESCRIPTION:L’Ajuntament de Sant Esteve ha iniciat el procés per cobrir un lloc de treball de monitor/a de sala de fitness al Complex Esportiu Municipal dins de la convocatòria d'un nou pla d'ocupació. Les persones interessades han d’adreçar-se a Promoció Econòmica fins al proper 12 de juliol. Per accedir al procés de selecció cal estar en situació d’atur i inscrit a l’Oficina de Treball del SOC.

URI:https://www.sesrovires.cat/actualitat/noticies/nou-pla-docupacio-per-cobrir-lloc-de-monitora-de-fitness.html
CLASS:PUBLIC
END:VEVENT
END:VCALENDAR
