BEGIN:VCALENDAR
VERSION:2.0
CALSCALE:GREGORIAN
PRODID:-//Diputació de Barcelona//DibaCMS//EN
BEGIN:VEVENT
UID:8507
DTSTAMP:20260421T224907
DTSTART:20190705T000000
DTEND:20200704T000000
SUMMARY:El Torneig Internacional d’Handbol rebrà equips de Bangladesh i Canadà
LOCATION:
METHOD:PUBLISH
X-WR-CALNAME:sesrovires@diba.cat
X-WR-TIMEZONE:Europe/Madrid
DESCRIPTION:El Torneig Internacional d’Handbol comptarà aquest any amb equips de Bangladesh i de Canadà, així com d’altres nacionalitats. També vindran àrbitres de la República Txeca, d’Egipte i d’Algèria. El SANES CUP se celebrarà del 12 al 16 de juliol en sis espais diferents i reunirà 93 equips de quatre continents del món. La 39a edició del Torneig Internacional està organitzat pel Club Handbol Sant Esteve amb la col·laboració de l’Ajuntament.

URI:https://www.sesrovires.cat/actualitat/noticies/el-torneig-internacional-dhandbol-rebra-equips-de-bangladesh-i-canada.html
CLASS:PUBLIC
END:VEVENT
END:VCALENDAR
