BEGIN:VCALENDAR
VERSION:2.0
CALSCALE:GREGORIAN
PRODID:-//Diputació de Barcelona//DibaCMS//EN
BEGIN:VEVENT
UID:8508
DTSTAMP:20260422T040320
DTSTART:20190709T110000
DTEND:20200708T000000
SUMMARY:Nou parc per a l’exercici físic a la zona del camp de futbol
LOCATION:
METHOD:PUBLISH
X-WR-CALNAME:sesrovires@diba.cat
X-WR-TIMEZONE:Europe/Madrid
DESCRIPTION:Aquest cap de setmana s’ha posat en marxa un nou parc destinat a la pràctica de l’exercici físic a l’aire lliure, conegut com a ‘work out’. L’espai està pensat especialment per a usuaris joves atesa la demanda que aquest col·lectiu va traslladar a la regidoria d’Esports.

URI:https://www.sesrovires.cat/actualitat/noticies/nou-parc-per-a-lexercici-fisic-a-la-zona-del-camp-de-futbol.html
CLASS:PUBLIC
END:VEVENT
END:VCALENDAR
