BEGIN:VCALENDAR
VERSION:2.0
CALSCALE:GREGORIAN
PRODID:-//Diputació de Barcelona//DibaCMS//EN
BEGIN:VEVENT
UID:8510
DTSTAMP:20260422T040406
DTSTART:20190709T190000
DTEND:20200708T000000
SUMMARY:Es censen més d’un centenar de nius ocupats d’orenetes cuablanca a Sant Esteve   
LOCATION:
METHOD:PUBLISH
X-WR-CALNAME:sesrovires@diba.cat
X-WR-TIMEZONE:Europe/Madrid
DESCRIPTION:A principis de juliol va realitzar-se al nostre municipi un cens pilot per quantificar i analitzar els nius d’oreneta cuablanca. S’han registrat un total de 270 nius, dels quals 144 estan ocupats, 104 trencats, i 22 sense senyal. Aquesta actuació s’emmarca dins el Projecte Orenetes que impulsa l’Institut Català d'Ornitologia (ICO) a través de persones voluntàries.

 

URI:https://www.sesrovires.cat/actualitat/noticies/es-censen-mes-dun-centenar-de-nius-ocupats-dorenetes-cuablanca-a-sant-esteve-.html
CLASS:PUBLIC
END:VEVENT
END:VCALENDAR
