BEGIN:VCALENDAR
VERSION:2.0
CALSCALE:GREGORIAN
PRODID:-//Diputació de Barcelona//DibaCMS//EN
BEGIN:VEVENT
UID:8511
DTSTAMP:20260422T034654
DTSTART:20190710T120000
DTEND:20200709T000000
SUMMARY:Suyana torna al Senegal amb un projecte educatiu i sanitari
LOCATION:
METHOD:PUBLISH
X-WR-CALNAME:sesrovires@diba.cat
X-WR-TIMEZONE:Europe/Madrid
DESCRIPTION:L’entitat solidària Suyana emprendrà a l’agost un nou viatge a l’illa de Bettenty al Senegal per continuar la seva activitat de cooperació. Diverses integrants d’aquesta ONG local portaran material mèdic i educatiu en el marc del projecte de suport al desenvolupament que porten a terme des de l’any 2007. 

URI:https://www.sesrovires.cat/actualitat/noticies/suyana-torna-al-senegal-amb-un-projecte-educatiu-i-sanitari.html
CLASS:PUBLIC
END:VEVENT
END:VCALENDAR
