BEGIN:VCALENDAR
VERSION:2.0
CALSCALE:GREGORIAN
PRODID:-//Diputació de Barcelona//DibaCMS//EN
BEGIN:VEVENT
UID:8516
DTSTAMP:20260422T022100
DTSTART:20190711T130000
DTEND:20200710T000000
SUMMARY:Festa Jove nocturna a la piscina d’estiu, el 17 de juliol
LOCATION:
METHOD:PUBLISH
X-WR-CALNAME:sesrovires@diba.cat
X-WR-TIMEZONE:Europe/Madrid
DESCRIPTION:A les portes de la Festa Major, i per anar escalfant motors, les regidories d’Esports i de Joventut organitzen, pel dimecres 17 de juliol, una festa a la piscina d’estiu especialment adreçada als joves. La remullada nocturna tindrà ambientació musical i servei de bar. A la tarda, i per als més petits, s’oferirà una activitat d’animació. Aquesta iniciativa juvenil compta amb la col·laboració del bar El Casino.

URI:https://www.sesrovires.cat/actualitat/noticies/festa-jove-nocturna-a-la-piscina-destiu-el-17-de-juliol.html
CLASS:PUBLIC
END:VEVENT
END:VCALENDAR
