BEGIN:VCALENDAR
VERSION:2.0
CALSCALE:GREGORIAN
PRODID:-//Diputació de Barcelona//DibaCMS//EN
BEGIN:VEVENT
UID:8517
DTSTAMP:20260422T024225
DTSTART:20190712T110000
DTEND:20200710T000000
SUMMARY:Suport de SOREA a la promoció cultural i esportiva del municipi
LOCATION:
METHOD:PUBLISH
X-WR-CALNAME:sesrovires@diba.cat
X-WR-TIMEZONE:Europe/Madrid
DESCRIPTION:L’Ajuntament i SOREA han formalitzat aquest matí un conveni de col·laboració pel qual es recull la voluntat de la companyia d’aigües de donar suport a l’activitat cultural i esportiva del municipi. El document l’han signat l’alcalde Enric Carbonell i el director de Concessions de SOREA, Ramon Albareda.

URI:https://www.sesrovires.cat/actualitat/noticies/suport-de-sorea-a-la-promocio-cultural-i-esportiva-del-municipi.html
CLASS:PUBLIC
END:VEVENT
END:VCALENDAR
