BEGIN:VCALENDAR
VERSION:2.0
CALSCALE:GREGORIAN
PRODID:-//Diputació de Barcelona//DibaCMS//EN
BEGIN:VEVENT
UID:8532
DTSTAMP:20260422T034435
DTSTART:20190724T203000
DTEND:20190724T203000
SUMMARY:FESTA MAJOR 2019: MASTERCLASS CICLOSES
LOCATION:Carrer Josep Fusalba, s/n 08635 Sant Esteve Sesrovires
METHOD:PUBLISH
X-WR-CALNAME:sesrovires@diba.cat
X-WR-TIMEZONE:Europe/Madrid
DESCRIPTION:Activitat oberta a tothom, de 20.30 a 22.30h. Inscripcions a partir del 15 de juliol. Es podrà reservar un màxim de 2 places per persona. És obligatori portar el tiquet de la reserva. Places limitades.

Cal portar: aigua per hidratar-se, tovallola, calçat adequat i roba adient per realitzar l’activitat.

URI:https://www.sesrovires.cat/actualitat/agenda-cultural/festa-major-2019-masterclass-cicloses.html
CLASS:PUBLIC
END:VEVENT
END:VCALENDAR
