BEGIN:VCALENDAR
VERSION:2.0
CALSCALE:GREGORIAN
PRODID:-//Diputació de Barcelona//DibaCMS//EN
BEGIN:VEVENT
UID:8533
DTSTAMP:20260421T224108
DTSTART:20190725T220000
DTEND:20190725T220000
SUMMARY:FESTA MAJOR 2019: SOPAR DE GERMANOR
LOCATION:Carrers del poble 
METHOD:PUBLISH
X-WR-CALNAME:sesrovires@diba.cat
X-WR-TIMEZONE:Europe/Madrid
DESCRIPTION:Nit màgica on tothom pot sortir al carrer per gaudir del sopar amb la família, amics i veïns. Una nit per compartir menjar, riures i diversió.

URI:https://www.sesrovires.cat/actualitat/agenda-cultural/festa-major-2019-sopar-de-germanor.html
CLASS:PUBLIC
END:VEVENT
END:VCALENDAR
