BEGIN:VCALENDAR
VERSION:2.0
CALSCALE:GREGORIAN
PRODID:-//Diputació de Barcelona//DibaCMS//EN
BEGIN:VEVENT
UID:8535
DTSTAMP:20260421T210829
DTSTART:20190726T003000
DTEND:20190726T003000
SUMMARY:FESTA MAJOR 2019: BALL A LA PLAÇA
LOCATION:Plaça del Doctor Tarrés 08635 Sant Esteve Sesrovires
METHOD:PUBLISH
X-WR-CALNAME:sesrovires@diba.cat
X-WR-TIMEZONE:Europe/Madrid
DESCRIPTION:Ball a la plaça amb ALRICOKOCO. Un any més el grup local ens portarà repertori nou, diversió i molta festa per gaudir de la nit amb música pop, rock, rumba, reggae... i molt bon rotllo!

I per arrodonir la festa, continuarem amb el DJ PABLO

URI:https://www.sesrovires.cat/actualitat/agenda-cultural/festa-major-2019-ball-a-la-placa.html
CLASS:PUBLIC
END:VEVENT
END:VCALENDAR
