BEGIN:VCALENDAR
VERSION:2.0
CALSCALE:GREGORIAN
PRODID:-//Diputació de Barcelona//DibaCMS//EN
BEGIN:VEVENT
UID:8536
DTSTAMP:20260421T195931
DTSTART:20190726T110000
DTEND:20190726T110000
SUMMARY:FESTA MAJOR 2019: FESTA AQUÀTICA
LOCATION:Carrer Josep Fusalba, s/n 08635 Sant Esteve Sesrovires
METHOD:PUBLISH
X-WR-CALNAME:sesrovires@diba.cat
X-WR-TIMEZONE:Europe/Madrid
DESCRIPTION:Festa amb inflables a la Piscina d’Estiu. Activitat familiar. Cal recollir l’entrada al Complex Esportiu Municipal, a partir del dia 22 de juliol. Les entrades són limitades. Per mesures de seguretat l’aforament serà limitat a 400 persones. Es poden adquirir un màxim de 4 entrades per persona. Cal portar xancletes i el banyador posat. No es podrà accedir a la instal·lació amb menjar, begudes, ni càmeres de fotos o vídeo. S’aplicaran les normes habituals de la instal·lació. L’activitat durarà fins a les 13.45 h i la instal·lació tornarà a obrir-se al públic a partir de les 16.30 h.

Accés per rampa del Complex Esportiu Municipal. Reservat el dret d’admissió.

Preu de l’entrada: 3,50€.

URI:https://www.sesrovires.cat/actualitat/agenda-cultural/festa-major-2019-festa-aquatica.html
CLASS:PUBLIC
END:VEVENT
END:VCALENDAR
