BEGIN:VCALENDAR
VERSION:2.0
CALSCALE:GREGORIAN
PRODID:-//Diputació de Barcelona//DibaCMS//EN
BEGIN:VEVENT
UID:8537
DTSTAMP:20260422T021242
DTSTART:20190726T180000
DTEND:20190726T180000
SUMMARY:FESTA MAJOR 2019: 24è CONCURS DE PUZZLES
LOCATION:Jardins de l'Ajuntament 
METHOD:PUBLISH
X-WR-CALNAME:sesrovires@diba.cat
X-WR-TIMEZONE:Europe/Madrid
DESCRIPTION:Torna el joc d’habilitats per parelles.

- Categoria infantil:  de 4 a 6 anys i de 7 a 11 anys

- Categoria adults:  de 12 en endavant

Places limitades a 20 equips per a la categoria adult i 10 per a cadascuna de les categories infantils. Preu d’inscripció per persona: 2,50€. Informació al SIAC. Inscripcions als Serveis Econòmics de l’Ajuntament o el mateix dia. 

URI:https://www.sesrovires.cat/actualitat/agenda-cultural/festa-major-2019-24e-concurs-de-puzzles.html
CLASS:PUBLIC
END:VEVENT
END:VCALENDAR
