BEGIN:VCALENDAR
VERSION:2.0
CALSCALE:GREGORIAN
PRODID:-//Diputació de Barcelona//DibaCMS//EN
BEGIN:VEVENT
UID:8538
DTSTAMP:20260422T035328
DTSTART:20190712T150000
DTEND:20200711T000000
SUMMARY:La Nit de l’Esport reconeix la tasca dels equips i esportistes del municipi
LOCATION:
METHOD:PUBLISH
X-WR-CALNAME:sesrovires@diba.cat
X-WR-TIMEZONE:Europe/Madrid
DESCRIPTION:Els jardins de l’Ajuntament acolliran el proper 19 de juliol la 12a edició de la Nit de l’Esport, una gala per premiar els equips més destacats d’aquesta temporada i l’esport masculí i femení. En la categoria absoluta Laura Uroz (taekwondo) i Albert Falguera (handbol) han estat escollits pel jurat com els millors esportistes de Sant Esteve Sesrovires.

URI:https://www.sesrovires.cat/actualitat/noticies/la-nit-de-lesport-reconeix-la-tasca-dels-equips-i-esportistes-del-municipi.html
CLASS:PUBLIC
END:VEVENT
END:VCALENDAR
