BEGIN:VCALENDAR
VERSION:2.0
CALSCALE:GREGORIAN
PRODID:-//Diputació de Barcelona//DibaCMS//EN
BEGIN:VEVENT
UID:8539
DTSTAMP:20260421T183549
DTSTART:20190726T180000
DTEND:20190726T180000
SUMMARY:FESTA MAJOR 2019: CAMPIONAT D’ESCACS ADULTS
LOCATION:Porxo del Centre Cívic 
METHOD:PUBLISH
X-WR-CALNAME:sesrovires@diba.cat
X-WR-TIMEZONE:Europe/Madrid
DESCRIPTION:Campionat de partides ràpides adults. Cal inscriure’s 15 minuts abans.

URI:https://www.sesrovires.cat/actualitat/agenda-cultural/festa-major-2019-campionat-descacs-adults.html
CLASS:PUBLIC
END:VEVENT
END:VCALENDAR
