BEGIN:VCALENDAR
VERSION:2.0
CALSCALE:GREGORIAN
PRODID:-//Diputació de Barcelona//DibaCMS//EN
BEGIN:VEVENT
UID:8540
DTSTAMP:20260422T003028
DTSTART:20190726T184500
DTEND:20190726T184500
SUMMARY:FESTA MAJOR 2019: REPIC DE CAMPANES 
LOCATION:Plaça del Dr. Tarrés 08635 Sant Esteve Sesrovires
METHOD:PUBLISH
X-WR-CALNAME:sesrovires@diba.cat
X-WR-TIMEZONE:Europe/Madrid
DESCRIPTION:Repic de campanes que anuncia la Festa Major

URI:https://www.sesrovires.cat/actualitat/agenda-cultural/festa-major-2019-repic-de-campanes-.html
CLASS:PUBLIC
END:VEVENT
END:VCALENDAR
