BEGIN:VCALENDAR
VERSION:2.0
CALSCALE:GREGORIAN
PRODID:-//Diputació de Barcelona//DibaCMS//EN
BEGIN:VEVENT
UID:8541
DTSTAMP:20260422T093842
DTSTART:20190726T190000
DTEND:20190726T190000
SUMMARY:FESTA MAJOR 2019: BALLADA DE SARDANES  
LOCATION:Plaça del Doctor Tarrés 08635 Sant Esteve Sesrovires
METHOD:PUBLISH
X-WR-CALNAME:sesrovires@diba.cat
X-WR-TIMEZONE:Europe/Madrid
DESCRIPTION:Tradicional ballada de sardanes amb la Cobla CIUTAT DE TERRASSA

URI:https://www.sesrovires.cat/actualitat/agenda-cultural/festa-major-2019-ballada-de-sardanes-.html
CLASS:PUBLIC
END:VEVENT
END:VCALENDAR
