BEGIN:VCALENDAR
VERSION:2.0
CALSCALE:GREGORIAN
PRODID:-//Diputació de Barcelona//DibaCMS//EN
BEGIN:VEVENT
UID:8542
DTSTAMP:20260422T005354
DTSTART:20190726T190000
DTEND:20190804T230000
SUMMARY:FESTA MAJOR 2019: EXPOSICIÓ 
LOCATION:C/ Martorell s/n 08635 Sant Esteve Sesrovires
METHOD:PUBLISH
X-WR-CALNAME:sesrovires@diba.cat
X-WR-TIMEZONE:Europe/Madrid
DESCRIPTION:Inauguracio de l'exposició col·lectiva d’Artviu en homenatge a MILENA (Mª Luisa Escudero).

 

URI:https://www.sesrovires.cat/actualitat/agenda-cultural/festa-major-2019-exposicio-.html
CLASS:PUBLIC
END:VEVENT
END:VCALENDAR
