BEGIN:VCALENDAR
VERSION:2.0
CALSCALE:GREGORIAN
PRODID:-//Diputació de Barcelona//DibaCMS//EN
BEGIN:VEVENT
UID:8543
DTSTAMP:20260421T224136
DTSTART:20190726T193000
DTEND:20190726T193000
SUMMARY:FESTA MAJOR 2019: ANIMACIÓ INFANTIL
LOCATION:Plaça Xic Mateu 08635 Sant Esteve Sesrovires
METHOD:PUBLISH
X-WR-CALNAME:sesrovires@diba.cat
X-WR-TIMEZONE:Europe/Madrid
DESCRIPTION:Música i animació infantil a càrrec d'AI, CARAI!

URI:https://www.sesrovires.cat/actualitat/agenda-cultural/festa-major-2019-animacio-infantil.html
CLASS:PUBLIC
END:VEVENT
END:VCALENDAR
