BEGIN:VCALENDAR
VERSION:2.0
CALSCALE:GREGORIAN
PRODID:-//Diputació de Barcelona//DibaCMS//EN
BEGIN:VEVENT
UID:8544
DTSTAMP:20260421T224547
DTSTART:20190726T213000
DTEND:20190726T213000
SUMMARY:FESTA MAJOR 2019: PREGÓ I TRACA DE FESTA MAJOR
LOCATION:Carrer Major, 8 08635 Sant Esteve Sesrovires
METHOD:PUBLISH
X-WR-CALNAME:sesrovires@diba.cat
X-WR-TIMEZONE:Europe/Madrid
DESCRIPTION:Pregó de Festa Major a càrrec de Jana Fernández, sesrovirenca de l’any 2018 a la persona , campiona del món de Sub-17 de futbol i jugadora del Futbol Club Barcelona.

URI:https://www.sesrovires.cat/actualitat/agenda-cultural/festa-major-2019-prego-i-traca-de-festa-major.html
CLASS:PUBLIC
END:VEVENT
END:VCALENDAR
