BEGIN:VCALENDAR
VERSION:2.0
CALSCALE:GREGORIAN
PRODID:-//Diputació de Barcelona//DibaCMS//EN
BEGIN:VEVENT
UID:8550
DTSTAMP:20260422T040540
DTSTART:20190716T080000
DTEND:20200714T000000
SUMMARY:Exposició d’Artviu en diferents comerços del poble
LOCATION:
METHOD:PUBLISH
X-WR-CALNAME:sesrovires@diba.cat
X-WR-TIMEZONE:Europe/Madrid
DESCRIPTION:Enguany la Festa Major recupera el Caminart. Es tracta d’una mostra atípica que fuig de les sales d’exposicions per apropar l’art a un dels llocs on es troba la gent habitualment, les botigues. És una iniciativa del col·lectiu Artviu que permetrà que diferents artistes sesrovirencs exposin les seves obres a nou establiments comercials diferents.  D’altra banda, Artviu dedica l’exposició de Festa Major Per a tu, Millena, a la despareguda artista local.

URI:https://www.sesrovires.cat/actualitat/noticies/exposicio-dartviu-en-diferents-comercos-del-poble.html
CLASS:PUBLIC
END:VEVENT
END:VCALENDAR
