BEGIN:VCALENDAR
VERSION:2.0
CALSCALE:GREGORIAN
PRODID:-//Diputació de Barcelona//DibaCMS//EN
BEGIN:VEVENT
UID:8558
DTSTAMP:20260421T211019
DTSTART:20190728T190000
DTEND:20190728T190000
SUMMARY:FESTA MAJOR 2019: ESPECTACLE INFANTIL I XOCOLATADA
LOCATION:Carrer Guanyador del concurs d'engalanament de carrers 
METHOD:PUBLISH
X-WR-CALNAME:sesrovires@diba.cat
X-WR-TIMEZONE:Europe/Madrid
DESCRIPTION:Premi al carrer guanyador del concurs de Carrers Engalanats, Festa Major 2019.

URI:https://www.sesrovires.cat/actualitat/agenda-cultural/festa-major-2019-espectacle-infantil-i-xocolatada.html
CLASS:PUBLIC
END:VEVENT
END:VCALENDAR
