BEGIN:VCALENDAR
VERSION:2.0
CALSCALE:GREGORIAN
PRODID:-//Diputació de Barcelona//DibaCMS//EN
BEGIN:VEVENT
UID:8559
DTSTAMP:20260421T213229
DTSTART:20190728T193000
DTEND:20190728T193000
SUMMARY:FESTA MAJOR 2019: BALL DE CARRER  I SOPAR FRED AL CASAL
LOCATION:Avinguda Catalunya, davant del Casal de la Gent Gran 
METHOD:PUBLISH
X-WR-CALNAME:sesrovires@diba.cat
X-WR-TIMEZONE:Europe/Madrid
DESCRIPTION:Ball de carrer amb ZAFIRO i sopar fred davant del Casal. Inscripcions fins al 25 de juliol, al Casal de la Gent Gran

URI:https://www.sesrovires.cat/actualitat/agenda-cultural/festa-major-2019-ball-de-carrer-i-sopar-fred-al-casal.html
CLASS:PUBLIC
END:VEVENT
END:VCALENDAR
