BEGIN:VCALENDAR
VERSION:2.0
CALSCALE:GREGORIAN
PRODID:-//Diputació de Barcelona//DibaCMS//EN
BEGIN:VEVENT
UID:8560
DTSTAMP:20260422T034531
DTSTART:20190728T203000
DTEND:20190728T203000
SUMMARY:FESTA MAJOR 2019: MÚSIQUES DEL MÓN
LOCATION:Plaça del Doctor Tarrés 08635 Sant Esteve Sesrovires
METHOD:PUBLISH
X-WR-CALNAME:sesrovires@diba.cat
X-WR-TIMEZONE:Europe/Madrid
DESCRIPTION:Espectacle de dansa africana a càrrec del grup local Bocabadats.

URI:https://www.sesrovires.cat/actualitat/agenda-cultural/festa-major-2019-musiques-del-mon.html
CLASS:PUBLIC
END:VEVENT
END:VCALENDAR
