BEGIN:VCALENDAR
VERSION:2.0
CALSCALE:GREGORIAN
PRODID:-//Diputació de Barcelona//DibaCMS//EN
BEGIN:VEVENT
UID:8561
DTSTAMP:20260422T035236
DTSTART:20190728T220000
DTEND:20190728T220000
SUMMARY:FESTA MAJOR 2019: CONCERT DELS MUSTANG
LOCATION:Passeig de Les Oliveres, s/n 08635 Sant Esteve Sesrovires
METHOD:PUBLISH
X-WR-CALNAME:sesrovires@diba.cat
X-WR-TIMEZONE:Europe/Madrid
DESCRIPTION:Venda anticipada als Serveis Econòmics de l’Ajuntament o el mateix dia a taquilla.

Nens (de 0 a 12 anys): gratuït   

Entrada general: 5 €

En acabar Traca Final de Festa

URI:https://www.sesrovires.cat/actualitat/agenda-cultural/festa-major-2019-concert-dels-mustang.html
CLASS:PUBLIC
END:VEVENT
END:VCALENDAR
