BEGIN:VCALENDAR
VERSION:2.0
CALSCALE:GREGORIAN
PRODID:-//Diputació de Barcelona//DibaCMS//EN
BEGIN:VEVENT
UID:8563
DTSTAMP:20260422T012106
DTSTART:20190715T200000
DTEND:20200714T000000
SUMMARY:L'espectacle 'Carmen' recapta 1.830€ per a la investigació del càncer infantil
LOCATION:
METHOD:PUBLISH
X-WR-CALNAME:sesrovires@diba.cat
X-WR-TIMEZONE:Europe/Madrid
DESCRIPTION:El grup de flamenc Amor al Arte i la Cofradía van portar de nou l’espectacle “Carmen” a l’escenari del Casino, aquesta vegada amb una finalitat solidària: recaptar fons per a la recerca contra el càncer Infantil. La representació de dissabte va aconseguir 1.830€ que es destinaran íntegrament a l’Hospital Sant Joan de Déu.

URI:https://www.sesrovires.cat/actualitat/noticies/lespectacle-carmen-recapta-1830eur-per-a-la-investigacio-del-cancer-infantil.html
CLASS:PUBLIC
END:VEVENT
END:VCALENDAR
