BEGIN:VCALENDAR
VERSION:2.0
CALSCALE:GREGORIAN
PRODID:-//Diputació de Barcelona//DibaCMS//EN
BEGIN:VEVENT
UID:8564
DTSTAMP:20260421T194525
DTSTART:20190717T130000
DTEND:20200715T000000
SUMMARY:Nou formulari web per sol·licitar carrer pel Sopar de germanor
LOCATION:
METHOD:PUBLISH
X-WR-CALNAME:sesrovires@diba.cat
X-WR-TIMEZONE:Europe/Madrid
DESCRIPTION:Les peticions d’ocupació de carrer pel sopar de germanor de dijous de Festa Major es poden fer a través d’un formulari disponible al web municipal. La iniciativa té com a objectiu agilitzar el tràmit. El termini per sol·licitar-ho finalitza el 22 de juliol.  

URI:https://www.sesrovires.cat/actualitat/noticies/nou-formulari-web-per-sollicitar-carrer-pel-sopar-de-germanor.html
CLASS:PUBLIC
END:VEVENT
END:VCALENDAR
