BEGIN:VCALENDAR
VERSION:2.0
CALSCALE:GREGORIAN
PRODID:-//Diputació de Barcelona//DibaCMS//EN
BEGIN:VEVENT
UID:8566
DTSTAMP:20260422T024340
DTSTART:20190717T120000
DTEND:20200716T000000
SUMMARY:Convocat un nou pla d'ocupació d’auxiliar administratiu/va per a l’atenció al públic
LOCATION:
METHOD:PUBLISH
X-WR-CALNAME:sesrovires@diba.cat
X-WR-TIMEZONE:Europe/Madrid
DESCRIPTION:L’Ajuntament de Sant Esteve ha iniciat el procés per cobrir un lloc de treball d’auxiliar administratiu/va per a l’atenció al públic, en el marc d’una nova convocatòria de pla d'ocupació. Les persones interessades han d’adreçar-se a Promoció Econòmica fins al proper 25 de juliol. Per accedir al procés de selecció cal estar en situació d’atur i inscrit a l’Oficina de Treball del SOC.

URI:https://www.sesrovires.cat/actualitat/noticies/convocat-un-nou-pla-docupacio-dauxiliar-administratiuva-per-a-latencio-al-public.html
CLASS:PUBLIC
END:VEVENT
END:VCALENDAR
