BEGIN:VCALENDAR
VERSION:2.0
CALSCALE:GREGORIAN
PRODID:-//Diputació de Barcelona//DibaCMS//EN
BEGIN:VEVENT
UID:8567
DTSTAMP:20260421T232059
DTSTART:20190718T130000
DTEND:20200717T000000
SUMMARY:Una jove sesrovirenca participa en un projecte musical de conscienciació sobre la sordesa
LOCATION:
METHOD:PUBLISH
X-WR-CALNAME:sesrovires@diba.cat
X-WR-TIMEZONE:Europe/Madrid
DESCRIPTION:La Jove Orquestra Graeme Clark és una formació integrada per una dotzena de músics d’entre 8 i 17 anys nascuts amb sordesa severa o profunda i que, actualment, poden sentir i escoltar gràcies als implants coclears. La jove sesrovirenca Abril Vargas Serrano forma part d’aquest nou projecte que neix amb la voluntat de conscienciar la població sobre la pèrdua auditiva i la importància d’aquests dispositius.

URI:https://www.sesrovires.cat/actualitat/noticies/una-jove-sesrovirenca-participa-en-un-projecte-musical-de-conscienciacio-sobre-la-sordesa.html
CLASS:PUBLIC
END:VEVENT
END:VCALENDAR
