BEGIN:VCALENDAR
VERSION:2.0
CALSCALE:GREGORIAN
PRODID:-//Diputació de Barcelona//DibaCMS//EN
BEGIN:VEVENT
UID:8568
DTSTAMP:20260421T231056
DTSTART:20190718T133000
DTEND:20200717T000000
SUMMARY:S’amplia l’oferta de serveis a la petita infància 
LOCATION:
METHOD:PUBLISH
X-WR-CALNAME:sesrovires@diba.cat
X-WR-TIMEZONE:Europe/Madrid
DESCRIPTION:La Ginesta, Centre integral de la petita infància, començarà el nou curs amb més serveis d’acompanyament a la criança per a famílies amb infants de 0 a 3 anys. Les novetats són la posada en marxa de l’Espai Familiar i un tercer torn del Rodajocs per a infants de 3 anys.

URI:https://www.sesrovires.cat/actualitat/noticies/samplia-loferta-de-serveis-a-la-petita-infancia-.html
CLASS:PUBLIC
END:VEVENT
END:VCALENDAR
