BEGIN:VCALENDAR
VERSION:2.0
CALSCALE:GREGORIAN
PRODID:-//Diputació de Barcelona//DibaCMS//EN
BEGIN:VEVENT
UID:8569
DTSTAMP:20260422T025928
DTSTART:20190719T130000
DTEND:20200718T000000
SUMMARY:La Festa Major tindrà un Punt Lila per informar o denunciar sobre agressions sexuals  
LOCATION:
METHOD:PUBLISH
X-WR-CALNAME:sesrovires@diba.cat
X-WR-TIMEZONE:Europe/Madrid
DESCRIPTION:Per una Festa Major lliure de masclismes. Amb aquest objectiu l’Ajuntament instal·larà un Punt Lila, un espai destinat a informar, prevenir i acompanyar davant de possibles agressions sexuals. Prèviament, s’aprovarà un protocol d’actuació i s’oferirà formació específica adreçada tant al personal municipal que treballa durant aquests dies com a les persones que estiguin en barres i serveis de bar.

URI:https://www.sesrovires.cat/actualitat/noticies/la-festa-major-tindra-un-punt-lila-per-informar-o-denunciar-sobre-agressions-sexuals-.html
CLASS:PUBLIC
END:VEVENT
END:VCALENDAR
