BEGIN:VCALENDAR
VERSION:2.0
CALSCALE:GREGORIAN
PRODID:-//Diputació de Barcelona//DibaCMS//EN
BEGIN:VEVENT
UID:8580
DTSTAMP:20260421T200738
DTSTART:20190911T100000
DTEND:20190911T100000
SUMMARY:DIADA NACIONAL DE CATALUNYA
LOCATION:Recorregut pels carres del poble i acte final al Parc de la Coma 
METHOD:PUBLISH
X-WR-CALNAME:sesrovires@diba.cat
X-WR-TIMEZONE:Europe/Madrid
DESCRIPTION:11.00 Concentració davant lAjuntament i cercavila acompanyats pels Gegants de Sant Esteve
11.30 Acte Institucional al Parc de la Coma: Cant de la senyera amb la Coral Sant Esteve, Ofrena floral, cant de l’himne nacional de Catalunya, foto commemorativa

URI:https://www.sesrovires.cat/actualitat/agenda-cultural/8580-diada-nacional-de-catalunya.html
CLASS:PUBLIC
END:VEVENT
END:VCALENDAR
