BEGIN:VCALENDAR
VERSION:2.0
CALSCALE:GREGORIAN
PRODID:-//Diputació de Barcelona//DibaCMS//EN
BEGIN:VEVENT
UID:8581
DTSTAMP:20260421T224246
DTSTART:20190905T090000
DTEND:20190905T090000
SUMMARY:INICI CURS ESCOLAR 2019-2020
LOCATION:Avinguda Vallserrat, 52 08635 Sant Esteve Sesrovires
METHOD:PUBLISH
X-WR-CALNAME:sesrovires@diba.cat
X-WR-TIMEZONE:Europe/Madrid
DESCRIPTION:Inici del curs escolar a la Llar d'Infants Municipal La Ginesta

URI:https://www.sesrovires.cat/actualitat/agenda-cultural/8581-inici-curs-escolar-2019-2020.html
CLASS:PUBLIC
END:VEVENT
END:VCALENDAR
