BEGIN:VCALENDAR
VERSION:2.0
CALSCALE:GREGORIAN
PRODID:-//Diputació de Barcelona//DibaCMS//EN
BEGIN:VEVENT
UID:8582
DTSTAMP:20260422T040609
DTSTART:20190912T090000
DTEND:20190912T090000
SUMMARY:INICI CURS ESCOLAR 2019-2020
LOCATION:Avinguda Montserrat, s/n 08635 Sant Esteve Sesrovires
METHOD:PUBLISH
X-WR-CALNAME:sesrovires@diba.cat
X-WR-TIMEZONE:Europe/Madrid
DESCRIPTION:Centres Educatius de Segon Cicle d'Educació Infantil, Primària i Secundària

URI:https://www.sesrovires.cat/actualitat/agenda-cultural/inici-curs-escolar-2019-2020.html
CLASS:PUBLIC
END:VEVENT
END:VCALENDAR
